BEGIN:VCALENDAR
VERSION:2.0
PRODID:icalendar-ruby
CALSCALE:GREGORIAN
METHOD:PUBLISH
BEGIN:VEVENT
DTSTAMP:20260422T000215Z
UID:9-644403@anchordsm.com
DTSTART:20230505T120000Z
DTEND:20230505T130000Z
CLASS:PUBLIC
CREATED:20260421T165218
DESCRIPTION:The men of our church meet together to pray with and for one an
 other\, our pastor\, our church family and our community.
LAST-MODIFIED:20260421T165218
LOCATION:Fireside Room and/or Zoom
SUMMARY:Men's Prayer
URL;VALUE=URI:https://anchordsm.com/events/mens-prayer/2023-05-05
ATTACH;FILENAME=Mens-Prayer-Slider.jpg;FMTTYPE=image/jpeg:https://dq5pwpg1q
 8ru0.cloudfront.net/2022/09/27/11/21/57/1b301754-4b4a-4c7e-8c2a-b188b99513
 56/Mens-Prayer-Slider.jpg
END:VEVENT
END:VCALENDAR
