BEGIN:VCALENDAR
VERSION:2.0
PRODID:icalendar-ruby
CALSCALE:GREGORIAN
METHOD:PUBLISH
BEGIN:VEVENT
DTSTAMP:20260420T132350Z
UID:29-630576@anchordsm.com
DTSTART:20260425T200000Z
DTEND:20260425T230000Z
CLASS:PUBLIC
CREATED:20260416T124435
DESCRIPTION:For members and regular attenders of Anchor Baptist Church who 
 consider themselves to be in the 'retirement stage of life'.  To be activ
 ely involved in fellowship and service with one another\, others in our ch
 urch family\, and in the community around us.
LAST-MODIFIED:20260416T124435
LOCATION:
SUMMARY:Young at Heart
URL;VALUE=URI:https://anchordsm.com/events/young-at-heart/2026-04-25
ATTACH;FILENAME=Young at Heart.png;FMTTYPE=image/png:https://dq5pwpg1q8ru0.
 cloudfront.net/2025/01/27/14/08/48/1e482035-44be-4bf0-81a9-3554795e8002/Yo
 ung%20at%20Heart.png
END:VEVENT
END:VCALENDAR
